BEGIN:VCALENDAR
VERSION:2.0
PRODID:-//DLR Chamber of Commerce - ECPv4.6.1//NONSGML v1.0//EN
CALSCALE:GREGORIAN
METHOD:PUBLISH
X-WR-CALNAME:DLR Chamber of Commerce
X-ORIGINAL-URL:http://www.dlrchamber.ie
X-WR-CALDESC:Events for DLR Chamber of Commerce
BEGIN:VEVENT
DTSTART;TZID=UTC+0:20171208T120000
DTEND;TZID=UTC+0:20171208T153000
DTSTAMP:20171104T184100
CREATED:20170824T145346Z
LAST-MODIFIED:20171005T155809Z
UID:4239-1512734400-1512747000@www.dlrchamber.ie
SUMMARY:President's Christmas Lunch Friday 8th December
DESCRIPTION:Join us for the annual Christmas celebrations in Talbot Hotel\, Stillorgan. \n
URL:http://www.dlrchamber.ie/event/presidents-christmas-lunch-friday-8th-december/
LOCATION:Stillorgan Road\, Dublin\, Ireland
ORGANIZER;CN="Gabby%20Mallon":MAILTO:gabby@dlrchamber.ie
END:VEVENT
END:VCALENDAR